BEGIN:VCALENDAR
VERSION:2.0
PRODID:-//Gribskov petanque//NONSGML kigkonsult.se iCalcreator 2.41.92//
CALSCALE:GREGORIAN
METHOD:PUBLISH
UID:37333335-6163-4633-a230-366261306239
X-WR-CALNAME:iCagenda
X-WR-CALDESC:Event Management Extension for Joomla!
X-WR-RELCALID:3E26604A-50F4-4449-8B3E-E4F4932D05B5
X-WR-TIMEZONE:Europe/Copenhagen
BEGIN:VTIMEZONE
TZID:Europe/Copenhagen
TZUNTIL:20280326T010000Z
BEGIN:STANDARD
TZNAME:CET
DTSTART:20251026T030000
TZOFFSETFROM:+0200
TZOFFSETTO:+0100
RDATE:20261025T030000
RDATE:20271031T030000
END:STANDARD
BEGIN:DAYLIGHT
TZNAME:CEST
DTSTART:20260329T020000
TZOFFSETFROM:+0100
TZOFFSETTO:+0200
RDATE:20270328T020000
END:DAYLIGHT
END:VTIMEZONE
BEGIN:VEVENT
UID:31646433-3461-4634-b564-303330363431
DTSTAMP:20260422T103829Z
CATEGORIES:Træning
CLASS:PUBLIC
DESCRIPTION:
DTSTART:20260709T080000Z
DTEND:20260709T080000Z
GEO:00;0
LOCATION:
ORGANIZER:
SEQUENCE:1
SUMMARY:Torsdags træning
TRANSP:OPAQUE
URL:http://gribskovpetanque.dk/index.php/component/icagenda/41-torsdags-tra
 ening/2026-07-09-10-00?layout=vcal
END:VEVENT
END:VCALENDAR
